BEGIN:VCALENDAR
PRODID:-//github.com/rianjs/ical.net//NONSGML ical.net 4.0//EN
VERSION:2.0
BEGIN:VEVENT
CATEGORIES:ThoughtfulLearning
CATEGORIES:Academic
CATEGORIES:Special Events
CATEGORIES:School of Arts and Sciences
DESCRIPTION:Professor of Political Science John Von Heyking from the Unive
 rsity of Lethbridge will be giving his lecture on "Churchill on Friendshi
 p as Statecraft" here at CUA!\nHosted by: Center for the Study of Statesm
 anship\, Department of Politics\, School of Arts and Sciences\nAdditional
  Information can be found at: https://nest.cua.edu/event/5031691
DTEND:20191031T223000Z
DTSTAMP:20191024T193709Z
DTSTART:20191031T203000Z
LOCATION:Happel Room\, Caldwell Hall
SEQUENCE:0
STATUS:CONFIRMED
SUMMARY:Churchill on Friendship as Statecraft
UID:https://nest.cua.edu/event/5031691
URL:https://nest.cua.edu/event/5031691
X-HOSTS:School of Arts and Sciences
END:VEVENT
END:VCALENDAR
